BEGIN:VCALENDAR
PRODID:-//github.com/rianjs/ical.net//NONSGML ical.net 4.0//EN
VERSION:2.0
BEGIN:VTIMEZONE
TZID:Central Standard Time
X-LIC-LOCATION:America/Chicago
BEGIN:STANDARD
DTSTART:20191103T020000
RRULE:FREQ=YEARLY;BYDAY=1SU;BYMONTH=11
TZNAME:CST
TZOFFSETFROM:-0500
TZOFFSETTO:-0600
END:STANDARD
BEGIN:DAYLIGHT
DTSTART:20200308T020000
RRULE:FREQ=YEARLY;BYDAY=2SU;BYMONTH=3
TZNAME:CDT
TZOFFSETFROM:-0600
TZOFFSETTO:-0500
END:DAYLIGHT
END:VTIMEZONE
BEGIN:VTIMEZONE
TZID:UTC
X-LIC-LOCATION:UTC
BEGIN:STANDARD
DTSTART:20200101T000000
RRULE:FREQ=YEARLY;BYDAY=1WE;BYMONTH=1
TZNAME:UTC
TZOFFSETFROM:+0000
TZOFFSETTO:+0000
END:STANDARD
END:VTIMEZONE
BEGIN:VEVENT
CLASS:PUBLIC
CREATED:20211114T165551
DESCRIPTION:.
DTEND:20211120T153000
DTSTAMP:20211206T110355Z
DTSTART:20211120T143000
LOCATION:Buffalo County EOC
SEQUENCE:0
SUMMARY:November Meeting
UID:3573d456-d821-4f00-a785-604d8c2a7236
END:VEVENT
BEGIN:VEVENT
CLASS:PUBLIC
CREATED:20211120T144802
DESCRIPTION:TBD
DTEND:20211212T010000
DTSTAMP:20211206T110355Z
DTSTART;VALUE=DATE:20211212
LOCATION:Kearney Chamber of Commerce
SEQUENCE:0
SUMMARY:W0KY Christmas Party
UID:98b9e2d1-fcc2-4ab5-a9af-6add44832f9a
END:VEVENT
BEGIN:VEVENT
CLASS:PUBLIC
CREATED:20211120T145207
DESCRIPTION:TBD
DTEND:20220131T020000
DTSTAMP:20211206T110355Z
DTSTART:20220129T140000
LOCATION:TBD
SEQUENCE:0
SUMMARY:Winter Field Day
UID:c50a743e-feb2-4128-8365-82880b75c670
END:VEVENT
END:VCALENDAR
